BEGIN:VCALENDAR
VERSION:2.0
PRODID:-// - ECPv5.1.5//NONSGML v1.0//EN
CALSCALE:GREGORIAN
METHOD:PUBLISH
X-ORIGINAL-URL:https://greenconvergencephil.com
X-WR-CALDESC:Events for 
BEGIN:VTIMEZONE
TZID:Asia/Manila
BEGIN:STANDARD
TZOFFSETFROM:+0800
TZOFFSETTO:+0800
TZNAME:PST
DTSTART:20190101T000000
END:STANDARD
END:VTIMEZONE
BEGIN:VEVENT
DTSTART;TZID=Asia/Manila:20190312T160000
DTEND;TZID=Asia/Manila:20190312T160000
DTSTAMP:20260421T205505
CREATED:20190314T184254Z
LAST-MODIFIED:20190314T184642Z
UID:2718-1552406400-1552406400@greenconvergencephil.com
SUMMARY:Tribute for Gani Serrano of PRRM
DESCRIPTION:
URL:https://greenconvergencephil.com/event/tribute-for-gani-serrano-of-prrm/
LOCATION:Mother Ignacia Street cor. Dr. Lascano Street\, Quezon City\, Mother Ignacia Street corner Dr. Lascano Street\, Quezon City\, Metro Manila\, Philippines
CATEGORIES:Member Organizations' and Networks' Events
END:VEVENT
END:VCALENDAR