BEGIN:VCALENDAR
VERSION:2.0
PRODID:-// - ECPv5.1.5//NONSGML v1.0//EN
CALSCALE:GREGORIAN
METHOD:PUBLISH
X-ORIGINAL-URL:https://greenconvergencephil.com
X-WR-CALDESC:Events for 
BEGIN:VTIMEZONE
TZID:Asia/Manila
BEGIN:STANDARD
TZOFFSETFROM:+0800
TZOFFSETTO:+0800
TZNAME:PST
DTSTART:20190101T000000
END:STANDARD
END:VTIMEZONE
BEGIN:VEVENT
DTSTART;TZID=Asia/Manila:20190121T090000
DTEND;TZID=Asia/Manila:20190121T140000
DTSTAMP:20260421T210619
CREATED:20190122T152123Z
LAST-MODIFIED:20190122T152123Z
UID:2420-1548061200-1548079200@greenconvergencephil.com
SUMMARY:Scrap WTE Incineration Mobilization
DESCRIPTION:
URL:https://greenconvergencephil.com/event/scrap-wte-incineration-mobilization/
LOCATION:Agricultural Training Institute\, Department of Agriculture\, Elliptical Road\, Quezon City\, Metro Manila\, 1101\, Philippines
CATEGORIES:Campaigns,Member Organizations' and Networks' Events
ATTACH;FMTTYPE=image/png:https://greenconvergencephil.com/wp-content/uploads/2019/01/48079442_545607895943457_5235868942630649856_n.png
ORGANIZER;CN="No%20Burn%20Pilipinas":MAILTO:info@ecowastecoalition.org
END:VEVENT
END:VCALENDAR