BEGIN:VCALENDAR
VERSION:2.0
PRODID:-// - ECPv5.1.5//NONSGML v1.0//EN
CALSCALE:GREGORIAN
METHOD:PUBLISH
X-ORIGINAL-URL:https://greenconvergencephil.com
X-WR-CALDESC:Events for 
BEGIN:VTIMEZONE
TZID:Asia/Manila
BEGIN:STANDARD
TZOFFSETFROM:+0800
TZOFFSETTO:+0800
TZNAME:PST
DTSTART:20200101T000000
END:STANDARD
END:VTIMEZONE
BEGIN:VEVENT
DTSTART;TZID=Asia/Manila:20200226T080000
DTEND;TZID=Asia/Manila:20200228T190000
DTSTAMP:20260421T141643
CREATED:20191217T115128Z
LAST-MODIFIED:20260207T165213Z
UID:3043-1582704000-1582916400@greenconvergencephil.com
SUMMARY:3rd Philippine Environment Summit\, Theme: “Paradigm (re)Shift: Heeding Nature”
DESCRIPTION:[vc_row video_fullscreen=”true” video_url=”” video_type=”video/youtube”][vc_column][vc_column_text]]Green Convergence (GC) for Safe Food\, Healthy Environment and Sustainable Economy will hold its 3rd Philippine Environment Summit on February 26-28\, 2020 at the Grand Caprice Convention Center in the “City of Golden Friendship\,” Cagayan de Oro. As with the first two summits\, it will be conducted with the Department of Environment and Natural Resources (DENR) as co-convener\, with further support from the Energy Development Corporation (EDC)\, Forest Foundation Philippines\, and other partners in government\, business\, academe and other sectors. \nWhile most fora on the environment present the dire state of our planet as well they should\, GC recognizes the countless efforts of many Filipinos who are taking positive steps to counteract the destruction. The biennial GC summits proclaim the good news. They are a celebration of the Philippine environmental movement\, a showcase of programs and projects that contribute to the country’s social and economic advancement while protecting the environment\, and a call to the Filipino people to unite in accelerating the drive towards sustainable development. \nAs before\, Summit 2020 will be a 3-day event that will carry the themes of Safe Food\, Healthy Environment and Sustainable Economy.  Each day will have plenary sessions in the morning and breakout sessions in the afternoon. A simultaneous three-day exhibit will highlight the themes as well as other inspiring programs of government\, LGUs\, communities\, CSOs\, business\, academe and other sectors. \n“Paradigm (re)Shift: Heeding Nature” is the working title of the 3rd Philippine Environment Summit 2020.  It is anchored on the premise that the technologies\, as well as the social and economic systems humankind has developed through the ages\, have brought about the compromised planetary environment we have today.  Nature’s systems are cyclical\, i.e.\, materials flow into and out of organisms and the environment in closed loops; thus\, resource use is maximized and waste minimized.  The use of fossil fuels and their derivatives has promoted a predominantly linear paradigm — we extract\, we use\, we throw away.  This mindset has affected not only our patterns of production and consumption but other spheres of human activity as well – business\, economics\, governance. \nGlobal warming and its flip side\, climate change\, has starkly revealed that this way of thinking and doing is unsustainable. It is now undeniable that we must respect and return to nature’s principles if we are to continue the gains of cultural evolution and to save the environment on which our lives depend. PES 2020 is a platform that will show how this principle can be applied and its benefits manifested in sustainable development. \nResearch is ongoing to search for outstanding breakthroughs and innovations that   manifest the circular paradigm as they contribute to social and economic advancement\, while protecting the environment. These projects and programs will be featured in the breakout sessions\, traditionally a rich mine of exciting information and success stories. The exhibit will likewise feature innovations that are already mainstreamed as commercial ventures. As well\, a souvenir program will be prepared with articles that will capture the spirit of the summit and with details about GC\, its members and allies. \nAround 50% of the participants composed of students\, indigenous peoples\, GC members and partners will participate in the summit for free. However\, because there will be expenses not covered by the major sponsors\, funds will be raised from registration for other sectors as well as from exhibit fees and souvenir program advertisements.[/vc_column_text][/vc_column][/vc_row][vc_row css_animation=”bottom-to-top” row_type=”2″ blox_bgcolor=”#3b9cba”][vc_column][vc_column_text]”Frequently Asked Questions”[/vc_column_text][vc_tta_section title=”1. Who can register? ” tab_id=”1576601793569-f73da0ae-4800″][vc_column_text]Anyone who advocates for or has interest in the protection of the environment can register.[/vc_column_text][/vc_tta_section][vc_tta_section title=”2. Where can I register? ” tab_id=”1770482916237-072737d5-0425″][vc_column_text]To register\, complete the Registration Form at . Once you accomplish this form\, you will be considered as a Waitlisted Participant.[/vc_column_text][/vc_tta_section][vc_tta_section title=”3. When is the registration period? ” tab_id=”1576601793691-5aaa3aa2-dc53″][vc_column_text]The registration period will run until February 18\, 2020. Tune into the Philippine Environment Summit Facebook page to get yourself posted on possible updates on the dates of the registration period.[/vc_column_text][/vc_tta_section][vc_tta_section title=”4. How much is the registration fee? ” tab_id=”1576601793805-291c9434-574f”][vc_column_text]The Early Bird Registration Fee\, which is only until January 31\, 2020\, is PhP 2700.00. The Regular Registration Fee is PhP 3500.00.[/vc_column_text][/vc_tta_section][vc_tta_section title=”5. What are the inclusions of the registration fee? ” tab_id=”1576601793936-9baddd28-ea7d”][vc_column_text]The registration shall cover your Summit Kit\, and your Lunch and Morning and Afternoon Snacks for 3 days.[/vc_column_text][/vc_tta_section][vc_tta_section title=”6. How can I pay for the registration fee? ” tab_id=”1576601794066-3feb8f70-5e48″][vc_column_text]Only Waitlisted Participants who accomplished the Registration Form at will be notified on the payment process for the Registration Fee. Once you accomplish the payment process\, you will be considered as a Successful Registrant.[/vc_column_text][/vc_tta_section][vc_tta_section title=”7. When will I be notified of the results of the registration? ” tab_id=”1576601794187-2fd10c3d-fcc4″][vc_column_text]As soon as you complete the registration process\, you will receive confirmation as a Successful Registrant.[/vc_column_text][/vc_tta_section][vc_tta_section title=”8. Where can I stay during the event? ” tab_id=”1576601794310-d45da77d-9389″][vc_column_text]If you have a smartphone\, you may install any of the following apps to search for the most convenient accommodations in Cagayan de Oro: \n\nAgoda\nBooking.com\nAirbnb\nTripAdvisor\nTrivago\nExpedia\n\nIf you are an Apple phone user\, you may find these apps at App Store. On the other hand\, if you are an Android phone user\, you may find these apps at Google Play Store. If you do not have a smartphone\, you may find the list of accommodations at .[/vc_column_text][/vc_tta_section][vc_tta_section title=”9. I am not from Cagayan de Oro\, what are my travel options? ” tab_id=”1576601794426-3381847d-8b44″][vc_column_text]Cebu Pacific offers flights from Cebu\, Iloilo\, Manila\, Davao\, Dumaguete\, and Tagbilaran to Cagayan de Oro and vice versa. You may book your flights at www.cebupacificair.com. \nPhilippine Airlines offers flights from Cebu and Manila to Cagayan de Oro and vice versa. You may book your flights at www.philippineairlines.com. \nAirAsia Philippines offers flights from Cebu\, Iloilo\, Clark and Manila to Cagayan de Oro and vice versa. You may book your flights at airasia.com. \nFor the complete list of flights to and from Cagayan de Oro\, go to .[/vc_column_text][/vc_tta_section][/vc_column][/vc_row] \n
URL:https://greenconvergencephil.com/event/phenvisummitcdo2020/
LOCATION:Grand Caprice Convention Center\, Limketkai Center\, Lapasan\, Cagayan de Oro\, Misamis Oriental\, 9000\, Philippines
CATEGORIES:Environmental Summit
END:VEVENT
END:VCALENDAR