BEGIN:VCALENDAR
VERSION:2.0
PRODID:-// - ECPv5.1.5//NONSGML v1.0//EN
CALSCALE:GREGORIAN
METHOD:PUBLISH
X-ORIGINAL-URL:https://greenconvergencephil.com
X-WR-CALDESC:Events for 
BEGIN:VTIMEZONE
TZID:Asia/Manila
BEGIN:STANDARD
TZOFFSETFROM:+0800
TZOFFSETTO:+0800
TZNAME:PST
DTSTART:20170101T000000
END:STANDARD
END:VTIMEZONE
BEGIN:VEVENT
DTSTART;TZID=Asia/Manila:20171117T103000
DTEND;TZID=Asia/Manila:20171117T133000
DTSTAMP:20260421T164335
CREATED:20171106T105020Z
LAST-MODIFIED:20171106T160317Z
UID:754-1510914600-1510925400@greenconvergencephil.com
SUMMARY:Kamayan Para Sa Kalikasan Forum
DESCRIPTION:
URL:https://greenconvergencephil.com/event/kamayan-para-sa-kalikasan-forum/
LOCATION:Kamayan Restaurant\, 207 Greenhills\, Epifanio de los Santos Ave\,\, Mandaluyong\, Metro Manila\, Philippines
CATEGORIES:Kamayan para sa Kalikasan Forum
END:VEVENT
END:VCALENDAR