BEGIN:VCALENDAR
VERSION:2.0
PRODID:-// - ECPv5.1.5//NONSGML v1.0//EN
CALSCALE:GREGORIAN
METHOD:PUBLISH
X-ORIGINAL-URL:https://greenconvergencephil.com
X-WR-CALDESC:Events for 
BEGIN:VTIMEZONE
TZID:Asia/Manila
BEGIN:STANDARD
TZOFFSETFROM:+0800
TZOFFSETTO:+0800
TZNAME:PST
DTSTART:20170101T000000
END:STANDARD
END:VTIMEZONE
BEGIN:VEVENT
DTSTART;TZID=Asia/Manila:20171215T103000
DTEND;TZID=Asia/Manila:20171215T133000
DTSTAMP:20260421T150554
CREATED:20171106T160638Z
LAST-MODIFIED:20171106T160847Z
UID:758-1513333800-1513344600@greenconvergencephil.com
SUMMARY:Kamayan Para Sa Kalikasan Forum
DESCRIPTION:
URL:https://greenconvergencephil.com/event/kamayan-para-sa-kalikasan-forum-2/
CATEGORIES:Kamayan para sa Kalikasan Forum
END:VEVENT
END:VCALENDAR