BEGIN:VCALENDAR
VERSION:2.0
PRODID:-// - ECPv5.1.5//NONSGML v1.0//EN
CALSCALE:GREGORIAN
METHOD:PUBLISH
X-ORIGINAL-URL:https://greenconvergencephil.com
X-WR-CALDESC:Events for 
BEGIN:VTIMEZONE
TZID:Asia/Manila
BEGIN:STANDARD
TZOFFSETFROM:+0800
TZOFFSETTO:+0800
TZNAME:PST
DTSTART:20180101T000000
END:STANDARD
END:VTIMEZONE
BEGIN:VEVENT
DTSTART;TZID=Asia/Manila:20181214T080000
DTEND;TZID=Asia/Manila:20181214T170000
DTSTAMP:20260421T202426
CREATED:20181122T213542Z
LAST-MODIFIED:20181122T213542Z
UID:2204-1544774400-1544806800@greenconvergencephil.com
SUMMARY:Green Convergence Christmas Fellowship 2018
DESCRIPTION:
URL:https://greenconvergencephil.com/event/green-convergence-christmas-fellowship-2018/
LOCATION:Miriam College\, Katipunan Avenue\, Barangay Loyola Heighs\, Quezon City\, Metro Manila\, 1101\, Philippines
END:VEVENT
END:VCALENDAR