BEGIN:VCALENDAR
VERSION:2.0
PRODID:-// - ECPv5.1.5//NONSGML v1.0//EN
CALSCALE:GREGORIAN
METHOD:PUBLISH
X-ORIGINAL-URL:https://greenconvergencephil.com
X-WR-CALDESC:Events for 
BEGIN:VTIMEZONE
TZID:Asia/Manila
BEGIN:STANDARD
TZOFFSETFROM:+0800
TZOFFSETTO:+0800
TZNAME:PST
DTSTART:20250101T000000
END:STANDARD
END:VTIMEZONE
BEGIN:VEVENT
DTSTART;TZID=Asia/Manila:20250616T090000
DTEND;TZID=Asia/Manila:20250616T150000
DTSTAMP:20260421T151252
CREATED:20260124T134839Z
LAST-MODIFIED:20260124T134839Z
UID:5204-1750064400-1750086000@greenconvergencephil.com
SUMMARY:GC\, FPH Suppliers GHG Accounting Seminar-Workshop
DESCRIPTION:
URL:https://greenconvergencephil.com/event/gc-fph-suppliers-ghg-accounting-seminar-workshop/
LOCATION:Rockwell Business Center\, Ortigas\, Pasig City
END:VEVENT
END:VCALENDAR