BEGIN:VCALENDAR
VERSION:2.0
PRODID:-// - ECPv5.1.5//NONSGML v1.0//EN
CALSCALE:GREGORIAN
METHOD:PUBLISH
X-ORIGINAL-URL:https://greenconvergencephil.com
X-WR-CALDESC:Events for 
BEGIN:VTIMEZONE
TZID:Asia/Manila
BEGIN:STANDARD
TZOFFSETFROM:+0800
TZOFFSETTO:+0800
TZNAME:PST
DTSTART:20170101T000000
END:STANDARD
END:VTIMEZONE
BEGIN:VEVENT
DTSTART;TZID=Asia/Manila:20171020T103000
DTEND;TZID=Asia/Manila:20171020T133000
DTSTAMP:20260421T150156
CREATED:20171029T185728Z
LAST-MODIFIED:20171029T185728Z
UID:662-1508495400-1508506200@greenconvergencephil.com
SUMMARY:Food and Nutrition Policies of the Philippines: Status and Challenges
DESCRIPTION:We are more than 104 Filipinos in our country of 30 million hectares of land. But agricultural land has greatly diminished by conversion to other uses and / or degraded by unsustainable agricultural practices. What is the food and nutrition policy of our country? Are there policies to assist the poor who are particularly vulnerable to the scourge of hunger? For a discussion of these issues\, Please come to Kamayan Para Sa Kalikasan Forum on Friday\, Oct. 20\, 2017 at 10:30am-1:30pm at Kamayan Restaurant on EDSA (near Ortigas Ave.\, across the gate of Corinthian Gardens subdivision). \nThe theme of the forum is ‘Food and Nutrition Policies of the Philippines: Status and Challenges.” \nGuest speakers are:\n· Dr. Azucena M. Dayanghirang\nDeputy Executive Director\nDepartment of Health\n· Emmanuel F. Pinol (invited)\nSecretary\nDepartment of Health\n· Liza Masa (invited)\nSecretary\nNational anti-Poverty Commission \nKamayan para sa Kalikasan is organized every third Friday of the month by Green Convergence for Safe Food\, Healthy Environment and Sustainable Economy together with SALIKA. \nWe thank Kamayan Restaurant which has been supporting this Forum as part of the company’s environmental advocacy for the past 26 years. \n
URL:https://greenconvergencephil.com/event/food-and-nutrition-policies-of-the-philippines-status-and-challenges/
LOCATION:Kamayan Restaurant\, 207 Greenhills\, Epifanio de los Santos Ave\,\, Mandaluyong\, Metro Manila\, Philippines
CATEGORIES:Kamayan para sa Kalikasan Forum
END:VEVENT
END:VCALENDAR