BEGIN:VCALENDAR
VERSION:2.0
PRODID:-// - ECPv5.1.5//NONSGML v1.0//EN
CALSCALE:GREGORIAN
METHOD:PUBLISH
X-ORIGINAL-URL:https://greenconvergencephil.com
X-WR-CALDESC:Events for 
BEGIN:VTIMEZONE
TZID:Asia/Manila
BEGIN:STANDARD
TZOFFSETFROM:+0800
TZOFFSETTO:+0800
TZNAME:PST
DTSTART:20240101T000000
END:STANDARD
END:VTIMEZONE
BEGIN:VEVENT
DTSTART;TZID=Asia/Manila:20240503T090000
DTEND;TZID=Asia/Manila:20240503T160000
DTSTAMP:20260421T131742
CREATED:20260124T141629Z
LAST-MODIFIED:20260124T141629Z
UID:5232-1714726800-1714752000@greenconvergencephil.com
SUMMARY:First Balfour Suppliers Training Program
DESCRIPTION:
URL:https://greenconvergencephil.com/event/first-balfour-suppliers-training-program/
LOCATION:Max’s Restaurant\, Muntinlupa City\, Philippines
END:VEVENT
END:VCALENDAR