BEGIN:VCALENDAR
VERSION:2.0
PRODID:-// - ECPv5.1.5//NONSGML v1.0//EN
CALSCALE:GREGORIAN
METHOD:PUBLISH
X-ORIGINAL-URL:https://greenconvergencephil.com
X-WR-CALDESC:Events for 
BEGIN:VTIMEZONE
TZID:Asia/Manila
BEGIN:STANDARD
TZOFFSETFROM:+0800
TZOFFSETTO:+0800
TZNAME:PST
DTSTART:20240101T000000
END:STANDARD
END:VTIMEZONE
BEGIN:VEVENT
DTSTART;TZID=Asia/Manila:20240530T090000
DTEND;TZID=Asia/Manila:20240530T160000
DTSTAMP:20260421T115403
CREATED:20260124T141258Z
LAST-MODIFIED:20260124T141258Z
UID:5229-1717059600-1717084800@greenconvergencephil.com
SUMMARY:DENR-PENRO Cavite Training Program
DESCRIPTION:
URL:https://greenconvergencephil.com/event/denr-penro-cavite-training-program/
LOCATION:Trece Martires\, Cavite\, Philippines
END:VEVENT
END:VCALENDAR