BEGIN:VCALENDAR
VERSION:2.0
PRODID:-// - ECPv5.1.5//NONSGML v1.0//EN
CALSCALE:GREGORIAN
METHOD:PUBLISH
X-ORIGINAL-URL:https://greenconvergencephil.com
X-WR-CALDESC:Events for 
BEGIN:VTIMEZONE
TZID:Asia/Manila
BEGIN:STANDARD
TZOFFSETFROM:+0800
TZOFFSETTO:+0800
TZNAME:PST
DTSTART:20250101T000000
END:STANDARD
END:VTIMEZONE
BEGIN:VEVENT
DTSTART;TZID=Asia/Manila:20250721T090000
DTEND;TZID=Asia/Manila:20250721T160000
DTSTAMP:20260421T165707
CREATED:20260124T134302Z
LAST-MODIFIED:20260124T134302Z
UID:5200-1753088400-1753113600@greenconvergencephil.com
SUMMARY:Climate Change and Your Carbon Footprint
DESCRIPTION:
URL:https://greenconvergencephil.com/event/climate-change-and-your-carbon-footprint-2/
LOCATION:National Museum of Fine Arts\, Manila\, Philippines
END:VEVENT
END:VCALENDAR