BEGIN:VCALENDAR
VERSION:2.0
PRODID:-// - ECPv5.1.5//NONSGML v1.0//EN
CALSCALE:GREGORIAN
METHOD:PUBLISH
X-ORIGINAL-URL:https://greenconvergencephil.com
X-WR-CALDESC:Events for 
BEGIN:VTIMEZONE
TZID:Asia/Manila
BEGIN:STANDARD
TZOFFSETFROM:+0800
TZOFFSETTO:+0800
TZNAME:PST
DTSTART:20210101T000000
END:STANDARD
END:VTIMEZONE
BEGIN:VEVENT
DTSTART;TZID=Asia/Manila:20210521T143000
DTEND;TZID=Asia/Manila:20210521T173000
DTSTAMP:20260422T025626
CREATED:20241125T181621Z
LAST-MODIFIED:20241125T181621Z
UID:4444-1621607400-1621618200@greenconvergencephil.com
SUMMARY:Civic Organizations for the Environment
DESCRIPTION:
URL:https://greenconvergencephil.com/event/civic-organizations-for-the-environment/
END:VEVENT
END:VCALENDAR