BEGIN:VCALENDAR
VERSION:2.0
PRODID:-// - ECPv5.1.5//NONSGML v1.0//EN
CALSCALE:GREGORIAN
METHOD:PUBLISH
X-ORIGINAL-URL:https://greenconvergencephil.com
X-WR-CALDESC:Events for 
BEGIN:VTIMEZONE
TZID:Asia/Manila
BEGIN:STANDARD
TZOFFSETFROM:+0800
TZOFFSETTO:+0800
TZNAME:PST
DTSTART:20210101T000000
END:STANDARD
END:VTIMEZONE
BEGIN:VEVENT
DTSTART;TZID=Asia/Manila:20210115T143000
DTEND;TZID=Asia/Manila:20210115T173000
DTSTAMP:20260421T185636
CREATED:20241125T182810Z
LAST-MODIFIED:20241125T182810Z
UID:4455-1610721000-1610731800@greenconvergencephil.com
SUMMARY:Artists for the Environment
DESCRIPTION:
URL:https://greenconvergencephil.com/event/artists-for-the-environment/
END:VEVENT
END:VCALENDAR