BEGIN:VCALENDAR
VERSION:2.0
PRODID:-// - ECPv5.1.5//NONSGML v1.0//EN
CALSCALE:GREGORIAN
METHOD:PUBLISH
X-ORIGINAL-URL:https://greenconvergencephil.com
X-WR-CALDESC:Events for 
BEGIN:VTIMEZONE
TZID:Asia/Manila
BEGIN:STANDARD
TZOFFSETFROM:+0800
TZOFFSETTO:+0800
TZNAME:PST
DTSTART:20250101T000000
END:STANDARD
END:VTIMEZONE
BEGIN:VEVENT
DTSTART;TZID=Asia/Manila:20250321T143000
DTEND;TZID=Asia/Manila:20250321T173000
DTSTAMP:20260421T084559
CREATED:20250407T060659Z
LAST-MODIFIED:20260207T144157Z
UID:4653-1742567400-1742578200@greenconvergencephil.com
SUMMARY:Kamayan Episode 417 “Governance and the Environment”
DESCRIPTION:
URL:https://greenconvergencephil.com/event/4653/
END:VEVENT
END:VCALENDAR