BEGIN:VCALENDAR
VERSION:2.0
PRODID:-// - ECPv5.1.5//NONSGML v1.0//EN
CALSCALE:GREGORIAN
METHOD:PUBLISH
X-ORIGINAL-URL:https://greenconvergencephil.com
X-WR-CALDESC:Events for 
BEGIN:VTIMEZONE
TZID:Asia/Manila
BEGIN:STANDARD
TZOFFSETFROM:+0800
TZOFFSETTO:+0800
TZNAME:PST
DTSTART:20220101T000000
END:STANDARD
END:VTIMEZONE
BEGIN:VEVENT
DTSTART;TZID=Asia/Manila:20220916T143000
DTEND;TZID=Asia/Manila:20220916T173000
DTSTAMP:20260421T175655
CREATED:20241125T161408Z
LAST-MODIFIED:20260207T155552Z
UID:4405-1663338600-1663349400@greenconvergencephil.com
SUMMARY:Kamayan Episode 387 "Protecting Peatlands\, the Newly Recognized Treasure of the Philippines"
DESCRIPTION:
URL:https://greenconvergencephil.com/event/4405/
END:VEVENT
END:VCALENDAR