BEGIN:VCALENDAR
VERSION:2.0
PRODID:-// - ECPv5.1.5//NONSGML v1.0//EN
CALSCALE:GREGORIAN
METHOD:PUBLISH
X-ORIGINAL-URL:https://greenconvergencephil.com
X-WR-CALDESC:Events for 
BEGIN:VTIMEZONE
TZID:Asia/Manila
BEGIN:STANDARD
TZOFFSETFROM:+0800
TZOFFSETTO:+0800
TZNAME:PST
DTSTART:20250101T000000
END:STANDARD
END:VTIMEZONE
BEGIN:VEVENT
DTSTART;TZID=Asia/Manila:20251121T143000
DTEND;TZID=Asia/Manila:20251121T173000
DTSTAMP:20260421T102517
CREATED:20260124T135904Z
LAST-MODIFIED:20260207T142216Z
UID:5213-1763735400-1763746200@greenconvergencephil.com
SUMMARY:Kamayan Episode 425 “Just Climate Transition: Should it include Nuclear & WTE?”
DESCRIPTION:
URL:https://greenconvergencephil.com/event/425th-kamayan-para-sa-kalikasan-forum/
END:VEVENT
END:VCALENDAR