BEGIN:VCALENDAR
VERSION:2.0
PRODID:-// - ECPv5.1.5//NONSGML v1.0//EN
CALSCALE:GREGORIAN
METHOD:PUBLISH
X-ORIGINAL-URL:https://greenconvergencephil.com
X-WR-CALDESC:Events for 
BEGIN:VTIMEZONE
TZID:Asia/Manila
BEGIN:STANDARD
TZOFFSETFROM:+0800
TZOFFSETTO:+0800
TZNAME:PST
DTSTART:20250101T000000
END:STANDARD
END:VTIMEZONE
BEGIN:VEVENT
DTSTART;TZID=Asia/Manila:20250620T143000
DTEND;TZID=Asia/Manila:20250620T173000
DTSTAMP:20260421T131949
CREATED:20250627T035607Z
LAST-MODIFIED:20260207T143458Z
UID:4783-1750429800-1750440600@greenconvergencephil.com
SUMMARY:Kamayan Episode 420 “Organic Agriculture: Answer to Food Security?”
DESCRIPTION:
URL:https://greenconvergencephil.com/event/420th-kamayan-para-sa-kalikasan-forum/
END:VEVENT
END:VCALENDAR