BEGIN:VCALENDAR
VERSION:2.0
PRODID:-// - ECPv5.1.5//NONSGML v1.0//EN
CALSCALE:GREGORIAN
METHOD:PUBLISH
X-ORIGINAL-URL:https://greenconvergencephil.com
X-WR-CALDESC:Events for 
BEGIN:VTIMEZONE
TZID:Asia/Manila
BEGIN:STANDARD
TZOFFSETFROM:+0800
TZOFFSETTO:+0800
TZNAME:PST
DTSTART:20240101T000000
END:STANDARD
END:VTIMEZONE
BEGIN:VEVENT
DTSTART;TZID=Asia/Manila:20240621T143000
DTEND;TZID=Asia/Manila:20240621T173000
DTSTAMP:20260421T121835
CREATED:20241125T120317Z
LAST-MODIFIED:20260207T151905Z
UID:4356-1718980200-1718991000@greenconvergencephil.com
SUMMARY:Kamayan Episode 408 "Has Metro Manila Reached Its Carrying Capacity?"
DESCRIPTION:
URL:https://greenconvergencephil.com/event/408th-kamayan-para-sa-kalikasan-forum/
END:VEVENT
END:VCALENDAR