BEGIN:VCALENDAR
VERSION:2.0
PRODID:-// - ECPv5.1.5//NONSGML v1.0//EN
CALSCALE:GREGORIAN
METHOD:PUBLISH
X-ORIGINAL-URL:https://greenconvergencephil.com
X-WR-CALDESC:Events for 
BEGIN:VTIMEZONE
TZID:Asia/Manila
BEGIN:STANDARD
TZOFFSETFROM:+0800
TZOFFSETTO:+0800
TZNAME:PST
DTSTART:20240101T000000
END:STANDARD
END:VTIMEZONE
BEGIN:VEVENT
DTSTART;TZID=Asia/Manila:20240517T143000
DTEND;TZID=Asia/Manila:20240517T173000
DTSTAMP:20260421T131804
CREATED:20241125T120743Z
LAST-MODIFIED:20260207T152213Z
UID:4358-1715956200-1715967000@greenconvergencephil.com
SUMMARY:Kamayan Episode 407 "Responsible Mining: Possible?"
DESCRIPTION:
URL:https://greenconvergencephil.com/event/407th-kamayan-para-sa-kalikasan-forum/
END:VEVENT
END:VCALENDAR