BEGIN:VCALENDAR
VERSION:2.0
PRODID:-// - ECPv5.1.5//NONSGML v1.0//EN
CALSCALE:GREGORIAN
METHOD:PUBLISH
X-ORIGINAL-URL:https://greenconvergencephil.com
X-WR-CALDESC:Events for 
BEGIN:VTIMEZONE
TZID:Asia/Manila
BEGIN:STANDARD
TZOFFSETFROM:+0800
TZOFFSETTO:+0800
TZNAME:PST
DTSTART:20230101T000000
END:STANDARD
END:VTIMEZONE
BEGIN:VEVENT
DTSTART;TZID=Asia/Manila:20230915T143000
DTEND;TZID=Asia/Manila:20230915T173000
DTSTAMP:20260421T091108
CREATED:20241125T125035Z
LAST-MODIFIED:20260207T153707Z
UID:4375-1694788200-1694799000@greenconvergencephil.com
SUMMARY:Kamayan Episode 399 "Valuing Ecosystems & Natural Capital"
DESCRIPTION:
URL:https://greenconvergencephil.com/event/399th-kamayan-para-sa-kalikasan-forum/
END:VEVENT
END:VCALENDAR