BEGIN:VCALENDAR
VERSION:2.0
PRODID:-// - ECPv5.1.5//NONSGML v1.0//EN
CALSCALE:GREGORIAN
METHOD:PUBLISH
X-ORIGINAL-URL:https://greenconvergencephil.com
X-WR-CALDESC:Events for 
BEGIN:VTIMEZONE
TZID:Asia/Manila
BEGIN:STANDARD
TZOFFSETFROM:+0800
TZOFFSETTO:+0800
TZNAME:PST
DTSTART:20230101T000000
END:STANDARD
END:VTIMEZONE
BEGIN:VEVENT
DTSTART;TZID=Asia/Manila:20230721T143000
DTEND;TZID=Asia/Manila:20230721T173000
DTSTAMP:20260419T151602
CREATED:20241125T131304Z
LAST-MODIFIED:20260207T154051Z
UID:4382-1689949800-1689960600@greenconvergencephil.com
SUMMARY:Kamayan Episode 397 "Beat Plastic Pollution"
DESCRIPTION:
URL:https://greenconvergencephil.com/event/397th-kamayan-para-sa-kalikasan-forum/
END:VEVENT
END:VCALENDAR