BEGIN:VCALENDAR
VERSION:2.0
PRODID:-// - ECPv5.1.5//NONSGML v1.0//EN
CALSCALE:GREGORIAN
METHOD:PUBLISH
X-ORIGINAL-URL:https://greenconvergencephil.com
X-WR-CALDESC:Events for 
BEGIN:VTIMEZONE
TZID:Asia/Manila
BEGIN:STANDARD
TZOFFSETFROM:+0800
TZOFFSETTO:+0800
TZNAME:PST
DTSTART:20230101T000000
END:STANDARD
END:VTIMEZONE
BEGIN:VEVENT
DTSTART;TZID=Asia/Manila:20230616T143000
DTEND;TZID=Asia/Manila:20230616T173000
DTSTAMP:20260419T165745
CREATED:20241125T131607Z
LAST-MODIFIED:20260207T154157Z
UID:4384-1686925800-1686936600@greenconvergencephil.com
SUMMARY:Kamayan Episode 396 “Proposed: West Philippine Sea as a Peace Zone”
DESCRIPTION:
URL:https://greenconvergencephil.com/event/396th-kamayan-para-sa-kalikasan-forum/
END:VEVENT
END:VCALENDAR