BEGIN:VCALENDAR
VERSION:2.0
PRODID:-// - ECPv5.1.5//NONSGML v1.0//EN
CALSCALE:GREGORIAN
METHOD:PUBLISH
X-ORIGINAL-URL:https://greenconvergencephil.com
X-WR-CALDESC:Events for 
BEGIN:VTIMEZONE
TZID:Asia/Manila
BEGIN:STANDARD
TZOFFSETFROM:+0800
TZOFFSETTO:+0800
TZNAME:PST
DTSTART:20230101T000000
END:STANDARD
END:VTIMEZONE
BEGIN:VEVENT
DTSTART;TZID=Asia/Manila:20230317T143000
DTEND;TZID=Asia/Manila:20230317T173000
DTSTAMP:20260421T102504
CREATED:20241125T132449Z
LAST-MODIFIED:20260207T154814Z
UID:4391-1679063400-1679074200@greenconvergencephil.com
SUMMARY:Kamayan Episode 393 “Water is Life”
DESCRIPTION:
URL:https://greenconvergencephil.com/event/393rd-kamayan-para-sa-kalikasan-forum/
END:VEVENT
END:VCALENDAR