BEGIN:VCALENDAR
VERSION:2.0
PRODID:-// - ECPv5.1.5//NONSGML v1.0//EN
CALSCALE:GREGORIAN
METHOD:PUBLISH
X-ORIGINAL-URL:https://greenconvergencephil.com
X-WR-CALDESC:Events for 
BEGIN:VTIMEZONE
TZID:Asia/Manila
BEGIN:STANDARD
TZOFFSETFROM:+0800
TZOFFSETTO:+0800
TZNAME:PST
DTSTART:20220101T000000
END:STANDARD
END:VTIMEZONE
BEGIN:VEVENT
DTSTART;TZID=Asia/Manila:20220520T143000
DTEND;TZID=Asia/Manila:20220520T173000
DTSTAMP:20260422T005541
CREATED:20241125T163925Z
LAST-MODIFIED:20260207T162347Z
UID:4415-1653057000-1653067800@greenconvergencephil.com
SUMMARY:Kamayan Episode 383 "New Beginnings for the Environment"
DESCRIPTION:
URL:https://greenconvergencephil.com/event/383rd-kamayan-para-sa-kalikasan-forum/
END:VEVENT
END:VCALENDAR