BEGIN:VCALENDAR
VERSION:2.0
PRODID:-// - ECPv5.1.5//NONSGML v1.0//EN
CALSCALE:GREGORIAN
METHOD:PUBLISH
X-ORIGINAL-URL:https://greenconvergencephil.com
X-WR-CALDESC:Events for 
BEGIN:VTIMEZONE
TZID:Asia/Manila
BEGIN:STANDARD
TZOFFSETFROM:+0800
TZOFFSETTO:+0800
TZNAME:PST
DTSTART:20210101T000000
END:STANDARD
END:VTIMEZONE
BEGIN:VEVENT
DTSTART;TZID=Asia/Manila:20211119T143000
DTEND;TZID=Asia/Manila:20211119T173000
DTSTAMP:20260422T113835
CREATED:20241125T171403Z
LAST-MODIFIED:20260207T163139Z
UID:4427-1637332200-1637343000@greenconvergencephil.com
SUMMARY:Kamayan Episode 377 "Climate Change: What Did Glasgow Achieve? A Report From the Philippine Delegation to COP 26"
DESCRIPTION:
URL:https://greenconvergencephil.com/event/377th-kamayan-para-sa-kalikasan-forum/
END:VEVENT
END:VCALENDAR