BEGIN:VCALENDAR
VERSION:2.0
PRODID:-// - ECPv5.1.5//NONSGML v1.0//EN
CALSCALE:GREGORIAN
METHOD:PUBLISH
X-ORIGINAL-URL:https://greenconvergencephil.com
X-WR-CALDESC:Events for 
BEGIN:VTIMEZONE
TZID:Asia/Manila
BEGIN:STANDARD
TZOFFSETFROM:+0800
TZOFFSETTO:+0800
TZNAME:PST
DTSTART:20210101T000000
END:STANDARD
END:VTIMEZONE
BEGIN:VEVENT
DTSTART;TZID=Asia/Manila:20210917T143000
DTEND;TZID=Asia/Manila:20210917T173000
DTSTAMP:20260422T095129
CREATED:20241125T173026Z
LAST-MODIFIED:20260207T163415Z
UID:4431-1631889000-1631899800@greenconvergencephil.com
SUMMARY:Kamayan Episode 375\, State of Nature Assessment 2021: “Climate Change: Dare to hope”
DESCRIPTION:
URL:https://greenconvergencephil.com/event/375th-kamayan-para-sa-kalikasan-forum-l-sona-2021/
END:VEVENT
END:VCALENDAR