BEGIN:VCALENDAR
VERSION:2.0
PRODID:-// - ECPv5.1.5//NONSGML v1.0//EN
CALSCALE:GREGORIAN
METHOD:PUBLISH
X-ORIGINAL-URL:https://greenconvergencephil.com
X-WR-CALDESC:Events for 
BEGIN:VTIMEZONE
TZID:Asia/Manila
BEGIN:STANDARD
TZOFFSETFROM:+0800
TZOFFSETTO:+0800
TZNAME:PST
DTSTART:20200101T000000
END:STANDARD
END:VTIMEZONE
BEGIN:VEVENT
DTSTART;TZID=Asia/Manila:20201120T143000
DTEND;TZID=Asia/Manila:20201120T173000
DTSTAMP:20260421T154203
CREATED:20241125T183218Z
LAST-MODIFIED:20241125T183218Z
UID:4459-1605882600-1605893400@greenconvergencephil.com
SUMMARY:365th Episode: Urban Farming
DESCRIPTION:
URL:https://greenconvergencephil.com/event/365th-episode-urban-farming/
END:VEVENT
END:VCALENDAR