BEGIN:VCALENDAR
VERSION:2.0
PRODID:-// - ECPv5.1.5//NONSGML v1.0//EN
CALSCALE:GREGORIAN
METHOD:PUBLISH
X-ORIGINAL-URL:https://greenconvergencephil.com
X-WR-CALDESC:Events for 
BEGIN:VTIMEZONE
TZID:Asia/Manila
BEGIN:STANDARD
TZOFFSETFROM:+0800
TZOFFSETTO:+0800
TZNAME:PST
DTSTART:20190101T000000
END:STANDARD
END:VTIMEZONE
BEGIN:VEVENT
DTSTART;TZID=Asia/Manila:20190215T103000
DTEND;TZID=Asia/Manila:20190215T140000
DTSTAMP:20260421T211306
CREATED:20190122T143807Z
LAST-MODIFIED:20190205T122817Z
UID:2374-1550226600-1550239200@greenconvergencephil.com
SUMMARY:347th Kamayan Para Sa Kalikasan Forum
DESCRIPTION:In response to the massive waste problems in the Philippines\, Republic Act 9003 was passed in 2000 to provide for a systematic\, comprehensive and ecological solid waste management program. It requires proper segregation\, collection\, transport\, storage\, treatment and disposal of solid waste. \nOne of the ways to support this policy as reinforced by many environmental advocates\, is to re-purpose plastic wastes by making ecobricks. These are plastic bottle containers stuffed with dry plastic wastes which are used as filler bricks in building systems. Another version of ecobricks actually resembles hollow blocks and are said to be a lot stronger than the latter. To make them\, shredded plastic wastes are mixed with wet cement and shaped like the regular hollow blocks that are currently used. \n\nSome critics of the move however\, believe that ecobricks merely instilled a mentality of recycling plastic among supporting individuals\, not minimizing the use of such. They therefore just contribute more wastes. \nDo ecobricks really help our campaign for ecological solid waste management? Or is it another false environmental solution? \nLearn and be part of the discussion this Kamayan Para sa Kalikasan Forum on Friday\, February 15\, 2019 at Kamayan Restaurant on EDSA. \nInterested participants are required to pre-register at. Successful pre-registrants will receive a confirmation of their admission to the forum. \nThis is brought to you by Green Convergence\, together with Kamayan Restaurant\, and supported by the Forest Foundation Philippines. \nSee you! \n\n
URL:https://greenconvergencephil.com/event/347th-kamayan-para-sa-kalikasan-forum/
LOCATION:Kamayan Restaurant\, 207 Greenhills\, Epifanio de los Santos Ave\,\, Mandaluyong\, Metro Manila\, Philippines
CATEGORIES:Kamayan para sa Kalikasan Forum
ATTACH;FMTTYPE=image/jpeg:https://greenconvergencephil.com/wp-content/uploads/2019/01/Kamayan_February-15-2019.jpg
END:VEVENT
END:VCALENDAR