BEGIN:VCALENDAR
VERSION:2.0
PRODID:-// - ECPv5.1.5//NONSGML v1.0//EN
CALSCALE:GREGORIAN
METHOD:PUBLISH
X-ORIGINAL-URL:https://greenconvergencephil.com
X-WR-CALDESC:Events for 
BEGIN:VTIMEZONE
TZID:Asia/Manila
BEGIN:STANDARD
TZOFFSETFROM:+0800
TZOFFSETTO:+0800
TZNAME:PST
DTSTART:20190101T000000
END:STANDARD
END:VTIMEZONE
BEGIN:VEVENT
DTSTART;TZID=Asia/Manila:20190118T100000
DTEND;TZID=Asia/Manila:20190118T140000
DTSTAMP:20260421T214732
CREATED:20190122T132050Z
LAST-MODIFIED:20190122T132050Z
UID:2359-1547805600-1547820000@greenconvergencephil.com
SUMMARY:346th Kamayan Para Sa Kalikasan Forum
DESCRIPTION:In our climate-vulnerable country\, disastrous landslides are becoming the new normal\, exacerbated by human activities that have increased the risks and the probability of their occurrence. Massive deforestation for example\, has always been a major cause of such disaster; new practices like mountainside blasting are also becoming common. Just recently\, to give way for the construction of a mini-hydro plant\, blasting was done in Oriental Mindoro despite a no-blasting agreement with the Mangyans\, bringing misery to a number of its communities. \nWhat can be done to prevent more communities from being buried under tons of flowing earth? \nCome and join the discussion at Kamayan Para sa Kalikasan Forum on Friday\, January 18\, 2019 at Kamayan Restaurant on EDSA. \nInterested participants are required to pre-register at. Successful pre-registrants will receive a confirmation of their admission to the forum. \nThis Forum is organized by Green Convergence\, sponsored by Kamayan Restaurant\, and supported by the Forest Foundation Philippines. \nSee you there! \n
URL:https://greenconvergencephil.com/event/346th-kamayan-para-sa-kalikasan-forum/
LOCATION:Kamayan Restaurant\, 207 Greenhills\, Epifanio de los Santos Ave\,\, Mandaluyong\, Metro Manila\, Philippines
CATEGORIES:Kamayan para sa Kalikasan Forum
ATTACH;FMTTYPE=image/jpeg:https://greenconvergencephil.com/wp-content/uploads/2018/11/Kamayan_January-18-2019.jpg
END:VEVENT
END:VCALENDAR