BEGIN:VCALENDAR
VERSION:2.0
PRODID:-// - ECPv5.1.5//NONSGML v1.0//EN
CALSCALE:GREGORIAN
METHOD:PUBLISH
X-ORIGINAL-URL:https://greenconvergencephil.com
X-WR-CALDESC:Events for 
BEGIN:VTIMEZONE
TZID:Asia/Manila
BEGIN:STANDARD
TZOFFSETFROM:+0800
TZOFFSETTO:+0800
TZNAME:PST
DTSTART:20180101T000000
END:STANDARD
END:VTIMEZONE
BEGIN:VEVENT
DTSTART;TZID=Asia/Manila:20181221T100000
DTEND;TZID=Asia/Manila:20181221T140000
DTSTAMP:20260421T215712
CREATED:20181122T213858Z
LAST-MODIFIED:20190122T132522Z
UID:2207-1545386400-1545400800@greenconvergencephil.com
SUMMARY:345th Kamayan Para Sa Kalikasan Forum
DESCRIPTION:\nThe Local Government Code grants local government units the right to plan and manage identified communal forests. Under Community-Based Forest Management Program\, these are forest areas where a production-sharing agreement for 25 years and renewable for another 25 years between the Department of Environment and Natural Resources and community organizations in the vicinity shall provide both parties the capacity to co-develop\, co-utilize and co-manage them. \nWhat is the status of the program? What are its implications to our environment and to our people? \nLearn and be part of the discussion this Kamayan Para sa Kalikasan Forum on December 21\, 2018\, 10:00 AM at the Kamayan Restaurant EDSA. \nInterested participants are required to pre-register at. Successful pre-registrants will receive a confirmation of their admission to the forum. \nThis is brought to you by Green Convergence\, together with Kamayan Restaurant\, and supported by the Forest Foundation Philippines. \nSee you! \n\n
URL:https://greenconvergencephil.com/event/345th-kamayan-para-sa-kalikasan-forum/
LOCATION:Kamayan Restaurant\, 207 Greenhills\, Epifanio de los Santos Ave\,\, Mandaluyong\, Metro Manila\, Philippines
CATEGORIES:Kamayan para sa Kalikasan Forum
ATTACH;FMTTYPE=image/jpeg:https://greenconvergencephil.com/wp-content/uploads/2018/11/Kamayan_December-21-2018.jpg
END:VEVENT
END:VCALENDAR