BEGIN:VCALENDAR
VERSION:2.0
PRODID:-// - ECPv5.1.5//NONSGML v1.0//EN
CALSCALE:GREGORIAN
METHOD:PUBLISH
X-ORIGINAL-URL:https://greenconvergencephil.com
X-WR-CALDESC:Events for 
BEGIN:VTIMEZONE
TZID:Asia/Manila
BEGIN:STANDARD
TZOFFSETFROM:+0800
TZOFFSETTO:+0800
TZNAME:PST
DTSTART:20180101T000000
END:STANDARD
END:VTIMEZONE
BEGIN:VEVENT
DTSTART;TZID=Asia/Manila:20180220T080000
DTEND;TZID=Asia/Manila:20180222T170000
DTSTAMP:20260421T132520
CREATED:20171029T184824Z
LAST-MODIFIED:20171104T074643Z
UID:660-1519113600-1519318800@greenconvergencephil.com
SUMMARY:2nd Philippine Environment Summit 2018
DESCRIPTION:The Environment Summit is a biennial undertaking of Green Convergence to celebrate important breakthroughs and advancements in environmental protection through private and public initiatives. It provides a platform where all sectors can share common challenges\, collaborate on creative solutions\, and replicate success stories. It is a call to government and the Filipino people to unite in accelerating the drive towards national sustainable development. \nGreen Convergence is a large coalition of organizations\, networks and individuals. With its private partners and DENR\, it successfully held the 1st Philippine Environment Summit at the SMX Convention Center\, Mall of Asia in February last year\, attracting more than 1\,000 multisectoral participants\, prestigious international and local resource speakers\, and beautiful exhibits. \n
URL:https://greenconvergencephil.com/event/2nd-philippine-environment-summit-2018/
CATEGORIES:Environmental Summit
END:VEVENT
END:VCALENDAR